BEGIN:VCALENDAR
VERSION:2.0
PRODID:-//Vancouver Elementary &amp; Adult Educators’ Society - ECPv6.0.1//NONSGML v1.0//EN
CALSCALE:GREGORIAN
METHOD:PUBLISH
X-ORIGINAL-URL:https://veaes.ca
X-WR-CALDESC:Events for Vancouver Elementary &amp; Adult Educators’ Society
REFRESH-INTERVAL;VALUE=DURATION:PT1H
X-Robots-Tag:noindex
X-PUBLISHED-TTL:PT1H
BEGIN:VTIMEZONE
TZID:America/Vancouver
BEGIN:DAYLIGHT
TZOFFSETFROM:-0800
TZOFFSETTO:-0700
TZNAME:PDT
DTSTART:20260308T100000
END:DAYLIGHT
BEGIN:STANDARD
TZOFFSETFROM:-0700
TZOFFSETTO:-0800
TZNAME:PST
DTSTART:20261101T090000
END:STANDARD
END:VTIMEZONE
BEGIN:VEVENT
DTSTART;TZID=America/Vancouver:20260428T160000
DTEND;TZID=America/Vancouver:20260428T190000
DTSTAMP:20260422T012912
CREATED:20260107T202717Z
LAST-MODIFIED:20260107T202717Z
UID:10000895-1777392000-1777402800@veaes.ca
SUMMARY:Professional Issues Committee Meeting
DESCRIPTION:
URL:https://veaes.ca/news-and-events-list/professional-issues-committee-meeting-10/
LOCATION:Zoom
END:VEVENT
BEGIN:VEVENT
DTSTART;VALUE=DATE:20260429
DTEND;VALUE=DATE:20260501
DTSTAMP:20260422T012912
CREATED:20260107T200357Z
LAST-MODIFIED:20260107T200357Z
UID:10000884-1777420800-1777593599@veaes.ca
SUMMARY:SURT
DESCRIPTION:
URL:https://veaes.ca/news-and-events-list/surt-4/
LOCATION:VEAES Office
END:VEVENT
END:VCALENDAR